BEGIN:VCALENDAR
VERSION:2.0
PRODID:-//Izaak Walton League of America - ECPv6.15.16//NONSGML v1.0//EN
CALSCALE:GREGORIAN
METHOD:PUBLISH
X-ORIGINAL-URL:https://iwla.org
X-WR-CALDESC:Events for Izaak Walton League of America
REFRESH-INTERVAL;VALUE=DURATION:PT1H
X-Robots-Tag:noindex
X-PUBLISHED-TTL:PT1H
BEGIN:VTIMEZONE
TZID:America/New_York
BEGIN:DAYLIGHT
TZOFFSETFROM:-0500
TZOFFSETTO:-0400
TZNAME:EDT
DTSTART:20250309T070000
END:DAYLIGHT
BEGIN:STANDARD
TZOFFSETFROM:-0400
TZOFFSETTO:-0500
TZNAME:EST
DTSTART:20251102T060000
END:STANDARD
BEGIN:DAYLIGHT
TZOFFSETFROM:-0500
TZOFFSETTO:-0400
TZNAME:EDT
DTSTART:20260308T070000
END:DAYLIGHT
BEGIN:STANDARD
TZOFFSETFROM:-0400
TZOFFSETTO:-0500
TZNAME:EST
DTSTART:20261101T060000
END:STANDARD
BEGIN:DAYLIGHT
TZOFFSETFROM:-0500
TZOFFSETTO:-0400
TZNAME:EDT
DTSTART:20270314T070000
END:DAYLIGHT
BEGIN:STANDARD
TZOFFSETFROM:-0400
TZOFFSETTO:-0500
TZNAME:EST
DTSTART:20271107T060000
END:STANDARD
END:VTIMEZONE
BEGIN:VEVENT
DTSTART;TZID=America/New_York:20260729T130000
DTEND;TZID=America/New_York:20260729T140000
DTSTAMP:20260423T081700
CREATED:20260402T160357Z
LAST-MODIFIED:20260406T181133Z
UID:11398-1785330000-1785333600@iwla.org
SUMMARY:Webinar: An Invisible Threat: Nitrate in Drinking Water
DESCRIPTION:In communities across the country\, nitrate pollution is a tasteless\, odorless\, invisible contaminant posing serious harm to public health. Join Dr. David Cwiertny\, Director of the University of Iowa’s Center for Health Effects of Environmental Contamination\, for an in-depth exploration of how nitrate contamination in our water systems is a public health concern. This session will distill complex data into clear takeaways\, highlighting the latest scientific links between nitrate exposure and adverse health outcomes including cancers\, thyroid disease\, birth defects\, and more. \nRegister for this Webinar \n  \nThis webinar is part of Nitrate Pollution Awareness Week. Learn more at iwla.org/nitrate-pollution-awareness-week.
URL:https://iwla.org/event/webinar-an-invisible-threat-nitrate-in-drinking-water/
LOCATION:Virtual\, Virtual
CATEGORIES:Virtual,Webinar
ATTACH;FMTTYPE=image/png:https://iwla.org/wp-content/uploads/NPAW-health-webinar-website-thumbnail.png
END:VEVENT
END:VCALENDAR