BEGIN:VCALENDAR
VERSION:2.0
PRODID:-//Izaak Walton League of America - ECPv6.15.16//NONSGML v1.0//EN
CALSCALE:GREGORIAN
METHOD:PUBLISH
X-ORIGINAL-URL:https://iwla.org
X-WR-CALDESC:Events for Izaak Walton League of America
REFRESH-INTERVAL;VALUE=DURATION:PT1H
X-Robots-Tag:noindex
X-PUBLISHED-TTL:PT1H
BEGIN:VTIMEZONE
TZID:America/New_York
BEGIN:DAYLIGHT
TZOFFSETFROM:-0500
TZOFFSETTO:-0400
TZNAME:EDT
DTSTART:20250309T070000
END:DAYLIGHT
BEGIN:STANDARD
TZOFFSETFROM:-0400
TZOFFSETTO:-0500
TZNAME:EST
DTSTART:20251102T060000
END:STANDARD
BEGIN:DAYLIGHT
TZOFFSETFROM:-0500
TZOFFSETTO:-0400
TZNAME:EDT
DTSTART:20260308T070000
END:DAYLIGHT
BEGIN:STANDARD
TZOFFSETFROM:-0400
TZOFFSETTO:-0500
TZNAME:EST
DTSTART:20261101T060000
END:STANDARD
BEGIN:DAYLIGHT
TZOFFSETFROM:-0500
TZOFFSETTO:-0400
TZNAME:EDT
DTSTART:20270314T070000
END:DAYLIGHT
BEGIN:STANDARD
TZOFFSETFROM:-0400
TZOFFSETTO:-0500
TZNAME:EST
DTSTART:20271107T060000
END:STANDARD
END:VTIMEZONE
BEGIN:VEVENT
DTSTART;TZID=America/New_York:20260630T093000
DTEND;TZID=America/New_York:20260630T160000
DTSTAMP:20260423T180131
CREATED:20260406T170208Z
LAST-MODIFIED:20260406T170208Z
UID:11427-1782811800-1782835200@iwla.org
SUMMARY:Virginia Save Our Streams Field Certification
DESCRIPTION:This event serves as the field training requirement for becoming a certified Virginia Save Our Streams monitor. Prior to this event\, you must complete the online portion of the certification\, including watching webinars and passing a macroinvertebrate identification quiz. \n  \nThis event is hosted by the Izaak Walton League and Longwood University. Register for the event here. Email vasos@iwla.org with any questions. \n  \nVisit vasos.org to learn more about Virginia Save Our Streams.
URL:https://iwla.org/event/virginia-save-our-streams-field-certification-8/
LOCATION:Cedar Crest Conference Center\, 22 Cedar Crest Road\, Green Bay\, Virginia\, 23942
CATEGORIES:In Person,Save Our Streams training
ATTACH;FMTTYPE=image/png:https://iwla.org/wp-content/uploads/Event-Featured-Images-10.png
END:VEVENT
BEGIN:VEVENT
DTSTART;TZID=America/New_York:20260712T130000
DTEND;TZID=America/New_York:20260712T170000
DTSTAMP:20260423T180131
CREATED:20260408T145750Z
LAST-MODIFIED:20260408T145750Z
UID:11485-1783861200-1783875600@iwla.org
SUMMARY:SOS Field Certification
DESCRIPTION:This event serves as the field training requirement for becoming a certified Virginia Save Our Streams monitor. Prior to this event\, you must complete the online portion of the certification\, including watching webinars and passing a macroinvertebrate identification quiz. \n  \nThis event is hosted by the Rockville Chapter of the Izaak Walton League. Register for the event here. Email vasos@iwla.org with any questions. \n  \nVisit vasos.org to learn more about Virginia Save Our Streams.
URL:https://iwla.org/event/sos-field-certification/
LOCATION:Izaak Walton League Rockville Chapter\, 18301 Waring Station Road\, Germantown\, MD\, 20874
CATEGORIES:In Person,Save Our Streams training
ATTACH;FMTTYPE=image/png:https://iwla.org/wp-content/uploads/Event-Featured-Images-11.png
END:VEVENT
BEGIN:VEVENT
DTSTART;VALUE=DATE:20260717
DTEND;VALUE=DATE:20260719
DTSTAMP:20260423T180131
CREATED:20250730T172628Z
LAST-MODIFIED:20260414T185321Z
UID:8422-1784246400-1784419199@iwla.org
SUMMARY:2026 National Convention
DESCRIPTION:Save the date for the 2026 National Convention in Bloomington\, Minn.! \nDates:  July 17 -18\, 2026 \nEarly Bird Welcome Reception:  Evening of July 16\, 2026 \nWhere:  Bloomington\, Minnesota \nVenue:  Hilton Minneapolis-St. Paul Airport\, 3800 American Blvd E\, Bloomington\, MN 55425 \nRegister for the convention and book at room: iwla-getitdone.org
URL:https://iwla.org/event/2026-national-convention/
LOCATION:Hilton Minneapolis-St. Paul Airport\, 3800 American Blvd E\, Bloomington\, MN\, 55425\, United States
CATEGORIES:In Person
ATTACH;FMTTYPE=image/jpeg:https://iwla.org/wp-content/uploads/2026-Convention-Photo-Bloomington-MN-scaled-e1756237536217.jpg
END:VEVENT
END:VCALENDAR