BEGIN:VCALENDAR
VERSION:2.0
PRODID:-//Izaak Walton League of America - ECPv6.15.16//NONSGML v1.0//EN
CALSCALE:GREGORIAN
METHOD:PUBLISH
X-WR-CALNAME:Izaak Walton League of America
X-ORIGINAL-URL:https://iwla.org
X-WR-CALDESC:Events for Izaak Walton League of America
REFRESH-INTERVAL;VALUE=DURATION:PT1H
X-Robots-Tag:noindex
X-PUBLISHED-TTL:PT1H
BEGIN:VTIMEZONE
TZID:America/New_York
BEGIN:DAYLIGHT
TZOFFSETFROM:-0500
TZOFFSETTO:-0400
TZNAME:EDT
DTSTART:20240310T070000
END:DAYLIGHT
BEGIN:STANDARD
TZOFFSETFROM:-0400
TZOFFSETTO:-0500
TZNAME:EST
DTSTART:20241103T060000
END:STANDARD
BEGIN:DAYLIGHT
TZOFFSETFROM:-0500
TZOFFSETTO:-0400
TZNAME:EDT
DTSTART:20250309T070000
END:DAYLIGHT
BEGIN:STANDARD
TZOFFSETFROM:-0400
TZOFFSETTO:-0500
TZNAME:EST
DTSTART:20251102T060000
END:STANDARD
BEGIN:DAYLIGHT
TZOFFSETFROM:-0500
TZOFFSETTO:-0400
TZNAME:EDT
DTSTART:20260308T070000
END:DAYLIGHT
BEGIN:STANDARD
TZOFFSETFROM:-0400
TZOFFSETTO:-0500
TZNAME:EST
DTSTART:20261101T060000
END:STANDARD
END:VTIMEZONE
BEGIN:VEVENT
DTSTART;TZID=America/New_York:20251101T100000
DTEND;TZID=America/New_York:20251101T120000
DTSTAMP:20260423T063350
CREATED:20250916T134326Z
LAST-MODIFIED:20250916T134326Z
UID:9359-1761991200-1761998400@iwla.org
SUMMARY:Walk in the Woods: Let's be Smart About Winter Salt - Sligo Creek
DESCRIPTION:Step into the shoes of an environmental detective as we explore the hidden impacts of oversalting our streets and sidewalks during the winter season. Discover how the excess salt harms delicate aquatic creatures\, disrupts the fragile balance of our ecosystems\, and pollutes our drinking water\, and learn from the experts about what we can do to be “winter salt smart.” \nJoin the Izaak Walton League of America on this fun and informative hike to learn about our addiction to deicing salt and how we can all live on a low winter salt diet. Together\, we can make a significant difference and create a cleaner\, healthier future. \nExpect to walk about 2-3 miles on flat/even terrain. Please bring your own water bottle. \nThis event is FREE but please register on Eventbrite in case of delays or rescheduling due to bad weather. The rain date is Sunday\, November 2. \nIzaak Walton League will be providing a Salt Watch kit to anyone interested in getting involved. \nEach participant will be required to complete the following form. Copies will be available at the beginning of the hike or you can bring your own printed\, signed copy: https://www.potomacriver.org/wp-content/uploads/2020/03/Liability-Waiver-and-Medical-Form_2020.pdf \nThis hike is produced by the Interstate Commission on the Potomac River Basin (ICPRB) in collaboration with the Izaak Walton League of America. It is part of ICPRB’s Walk in the Woods series of hikes.
URL:https://iwla.org/event/walk-in-the-woods-lets-be-smart-about-winter-salt-sligo-creek/
LOCATION:Sligo Creek North Neighborhood Park\, Anacostia Tributary Trail System\, Takoma Park\, MD\, 20912
CATEGORIES:In Person
ATTACH;FMTTYPE=image/png:https://iwla.org/wp-content/uploads/walk-in-the-woods-11_1_25.png
END:VEVENT
END:VCALENDAR